BEGIN:VCALENDAR
VERSION:2.0
PRODID:-//Share The Cost Global - ECPv6.15.20//NONSGML v1.0//EN
CALSCALE:GREGORIAN
METHOD:PUBLISH
X-WR-CALNAME:Share The Cost Global
X-ORIGINAL-URL:https://sharethecostglobal.com
X-WR-CALDESC:Events for Share The Cost Global
REFRESH-INTERVAL;VALUE=DURATION:PT1H
X-Robots-Tag:noindex
X-PUBLISHED-TTL:PT1H
BEGIN:VTIMEZONE
TZID:Europe/London
BEGIN:DAYLIGHT
TZOFFSETFROM:+0000
TZOFFSETTO:+0100
TZNAME:BST
DTSTART:20220327T010000
END:DAYLIGHT
BEGIN:STANDARD
TZOFFSETFROM:+0100
TZOFFSETTO:+0000
TZNAME:GMT
DTSTART:20221030T010000
END:STANDARD
BEGIN:DAYLIGHT
TZOFFSETFROM:+0000
TZOFFSETTO:+0100
TZNAME:BST
DTSTART:20230326T010000
END:DAYLIGHT
BEGIN:STANDARD
TZOFFSETFROM:+0100
TZOFFSETTO:+0000
TZNAME:GMT
DTSTART:20231029T010000
END:STANDARD
BEGIN:DAYLIGHT
TZOFFSETFROM:+0000
TZOFFSETTO:+0100
TZNAME:BST
DTSTART:20240331T010000
END:DAYLIGHT
BEGIN:STANDARD
TZOFFSETFROM:+0100
TZOFFSETTO:+0000
TZNAME:GMT
DTSTART:20241027T010000
END:STANDARD
BEGIN:DAYLIGHT
TZOFFSETFROM:+0000
TZOFFSETTO:+0100
TZNAME:BST
DTSTART:20250330T010000
END:DAYLIGHT
BEGIN:STANDARD
TZOFFSETFROM:+0100
TZOFFSETTO:+0000
TZNAME:GMT
DTSTART:20251026T010000
END:STANDARD
END:VTIMEZONE
BEGIN:VEVENT
DTSTART;TZID=Europe/London:20240328T120000
DTEND;TZID=Europe/London:20240328T133000
DTSTAMP:20260420T081053
CREATED:20231227T124852Z
LAST-MODIFIED:20231227T141914Z
UID:6696-1711627200-1711632600@sharethecostglobal.com
SUMMARY:Cost of Living Fund Application
DESCRIPTION:
URL:https://sharethecostglobal.com/event/cost-of-living-fund-application-10/
LOCATION:The Green\, Nunhead Community Centre\, 5 Nunhead Green\, London\, SE15 3QQ\, United Kingdom
ORGANIZER;CN="Share The Cost Global":MAILTO:hello@sharethecostglobal.com
END:VEVENT
BEGIN:VEVENT
DTSTART;TZID=Europe/London:20240327T100000
DTEND;TZID=Europe/London:20240327T150000
DTSTAMP:20260420T081053
CREATED:20231227T141822Z
LAST-MODIFIED:20231227T141822Z
UID:6737-1711533600-1711551600@sharethecostglobal.com
SUMMARY:Southwark Group of Tenant's Organisation
DESCRIPTION:
URL:https://sharethecostglobal.com/event/southwark-group-of-tenants-organisation-4/
LOCATION:SGTO Head Office\, 19 Buller Close\, Peckham\, London\, SE15 6UJ
ORGANIZER;CN="Share The Cost Global":MAILTO:hello@sharethecostglobal.com
END:VEVENT
BEGIN:VEVENT
DTSTART;TZID=Europe/London:20240321T120000
DTEND;TZID=Europe/London:20240321T133000
DTSTAMP:20260420T081053
CREATED:20231227T124815Z
LAST-MODIFIED:20231227T124925Z
UID:6695-1711022400-1711027800@sharethecostglobal.com
SUMMARY:Cost of Living Fund Application
DESCRIPTION:
URL:https://sharethecostglobal.com/event/cost-of-living-fund-application-9/
LOCATION:The Green\, Nunhead Community Centre\, 5 Nunhead Green\, London\, SE15 3QQ\, United Kingdom
ORGANIZER;CN="Share The Cost Global":MAILTO:hello@sharethecostglobal.com
END:VEVENT
BEGIN:VEVENT
DTSTART;TZID=Europe/London:20240320T100000
DTEND;TZID=Europe/London:20240320T150000
DTSTAMP:20260420T081053
CREATED:20231227T131854Z
LAST-MODIFIED:20231227T141617Z
UID:6727-1710928800-1710946800@sharethecostglobal.com
SUMMARY:Southwark Group of Tenant's Organisation
DESCRIPTION:
URL:https://sharethecostglobal.com/event/southwark-group-of-tenants-organisation-14/
LOCATION:SGTO Head Office\, 19 Buller Close\, Peckham\, London\, SE15 6UJ
ORGANIZER;CN="Share The Cost Global":MAILTO:hello@sharethecostglobal.com
END:VEVENT
BEGIN:VEVENT
DTSTART;TZID=Europe/London:20240314T120000
DTEND;TZID=Europe/London:20240314T130000
DTSTAMP:20260420T081053
CREATED:20231227T124725Z
LAST-MODIFIED:20231227T124725Z
UID:6694-1710417600-1710421200@sharethecostglobal.com
SUMMARY:Cost of Living Fund Application
DESCRIPTION:
URL:https://sharethecostglobal.com/event/cost-of-living-fund-application-8/
LOCATION:The Green\, Nunhead Community Centre\, 5 Nunhead Green\, London\, SE15 3QQ\, United Kingdom
ORGANIZER;CN="Share The Cost Global":MAILTO:hello@sharethecostglobal.com
END:VEVENT
BEGIN:VEVENT
DTSTART;TZID=Europe/London:20240313T100000
DTEND;TZID=Europe/London:20240313T150000
DTSTAMP:20260420T081053
CREATED:20231227T131747Z
LAST-MODIFIED:20231227T131747Z
UID:6728-1710324000-1710342000@sharethecostglobal.com
SUMMARY:Southwark Group of Tenant's Organisation
DESCRIPTION:
URL:https://sharethecostglobal.com/event/southwark-group-of-tenants-organisation-13/
LOCATION:SGTO Head Office\, 19 Buller Close\, Peckham\, London\, SE15 6UJ
ORGANIZER;CN="Share The Cost Global":MAILTO:hello@sharethecostglobal.com
END:VEVENT
BEGIN:VEVENT
DTSTART;TZID=Europe/London:20240307T120000
DTEND;TZID=Europe/London:20240307T133000
DTSTAMP:20260420T081053
CREATED:20231227T124612Z
LAST-MODIFIED:20231227T124612Z
UID:6693-1709812800-1709818200@sharethecostglobal.com
SUMMARY:Cost of Living Fund Application
DESCRIPTION:
URL:https://sharethecostglobal.com/event/cost-of-living-fund-application-7/
LOCATION:The Green\, Nunhead Community Centre\, 5 Nunhead Green\, London\, SE15 3QQ\, United Kingdom
ORGANIZER;CN="Share The Cost Global":MAILTO:hello@sharethecostglobal.com
END:VEVENT
BEGIN:VEVENT
DTSTART;TZID=Europe/London:20240306T100000
DTEND;TZID=Europe/London:20240306T150000
DTSTAMP:20260420T081053
CREATED:20231227T131433Z
LAST-MODIFIED:20231227T131504Z
UID:6721-1709719200-1709737200@sharethecostglobal.com
SUMMARY:Southwark Group of Tenant's Organisation
DESCRIPTION:
URL:https://sharethecostglobal.com/event/6721/
LOCATION:SGTO Head Office\, 19 Buller Close\, Peckham\, London\, SE15 6UJ
ORGANIZER;CN="Share The Cost Global":MAILTO:hello@sharethecostglobal.com
END:VEVENT
BEGIN:VEVENT
DTSTART;TZID=Europe/London:20240229T120000
DTEND;TZID=Europe/London:20240229T133000
DTSTAMP:20260420T081053
CREATED:20231227T124450Z
LAST-MODIFIED:20231227T124450Z
UID:6691-1709208000-1709213400@sharethecostglobal.com
SUMMARY:Cost of Living Fund Application
DESCRIPTION:
URL:https://sharethecostglobal.com/event/cost-of-living-fund-application-6/
LOCATION:The Green\, Nunhead Community Centre\, 5 Nunhead Green\, London\, SE15 3QQ\, United Kingdom
ORGANIZER;CN="Share The Cost Global":MAILTO:hello@sharethecostglobal.com
END:VEVENT
BEGIN:VEVENT
DTSTART;TZID=Europe/London:20240228T100000
DTEND;TZID=Europe/London:20240228T150000
DTSTAMP:20260420T081053
CREATED:20231227T131021Z
LAST-MODIFIED:20231227T131021Z
UID:6718-1709114400-1709132400@sharethecostglobal.com
SUMMARY:Southwark Group of Tenant's Organisation
DESCRIPTION:
URL:https://sharethecostglobal.com/event/southwark-group-of-tenants-organisation-11/
LOCATION:SGTO Head Office\, 19 Buller Close\, Peckham\, London\, SE15 6UJ
ORGANIZER;CN="Share The Cost Global":MAILTO:hello@sharethecostglobal.com
END:VEVENT
BEGIN:VEVENT
DTSTART;TZID=Europe/London:20240222T120000
DTEND;TZID=Europe/London:20240222T133000
DTSTAMP:20260420T081053
CREATED:20231227T124137Z
LAST-MODIFIED:20231227T124236Z
UID:6689-1708603200-1708608600@sharethecostglobal.com
SUMMARY:Cost of Living Fund Application
DESCRIPTION:
URL:https://sharethecostglobal.com/event/cost-of-living-fund-application-5/
LOCATION:The Green\, Nunhead Community Centre\, 5 Nunhead Green\, London\, SE15 3QQ\, United Kingdom
ORGANIZER;CN="Share The Cost Global":MAILTO:hello@sharethecostglobal.com
END:VEVENT
BEGIN:VEVENT
DTSTART;TZID=Europe/London:20240221T100000
DTEND;TZID=Europe/London:20240221T150000
DTSTAMP:20260420T081053
CREATED:20231227T130919Z
LAST-MODIFIED:20231227T130919Z
UID:6713-1708509600-1708527600@sharethecostglobal.com
SUMMARY:Southwark Group of Tenant's Organisation
DESCRIPTION:
URL:https://sharethecostglobal.com/event/southwark-group-of-tenants-organisation-10/
LOCATION:SGTO Head Office\, 19 Buller Close\, Peckham\, London\, SE15 6UJ
ORGANIZER;CN="Share The Cost Global":MAILTO:hello@sharethecostglobal.com
END:VEVENT
BEGIN:VEVENT
DTSTART;TZID=Europe/London:20240214T100000
DTEND;TZID=Europe/London:20240214T150000
DTSTAMP:20260420T081053
CREATED:20231227T130747Z
LAST-MODIFIED:20231227T130747Z
UID:6716-1707904800-1707922800@sharethecostglobal.com
SUMMARY:Southwark Group of Tenant's Organisation
DESCRIPTION:
URL:https://sharethecostglobal.com/event/southwark-group-of-tenants-organisation-9/
LOCATION:SGTO Head Office\, 19 Buller Close\, Peckham\, London\, SE15 6UJ
ORGANIZER;CN="Share The Cost Global":MAILTO:hello@sharethecostglobal.com
END:VEVENT
BEGIN:VEVENT
DTSTART;TZID=Europe/London:20240208T120000
DTEND;TZID=Europe/London:20240208T133000
DTSTAMP:20260420T081053
CREATED:20231227T123932Z
LAST-MODIFIED:20231227T123932Z
UID:6687-1707393600-1707399000@sharethecostglobal.com
SUMMARY:Cost of Living Fund Application
DESCRIPTION:
URL:https://sharethecostglobal.com/event/cost-of-living-fund-application-4/
LOCATION:The Green\, Nunhead Community Centre\, 5 Nunhead Green\, London\, SE15 3QQ\, United Kingdom
ORGANIZER;CN="Share The Cost Global":MAILTO:hello@sharethecostglobal.com
END:VEVENT
BEGIN:VEVENT
DTSTART;TZID=Europe/London:20240207T100000
DTEND;TZID=Europe/London:20240207T150000
DTSTAMP:20260420T081053
CREATED:20231227T131246Z
LAST-MODIFIED:20231227T131336Z
UID:6722-1707300000-1707318000@sharethecostglobal.com
SUMMARY:Southwark Group of Tenant's Organisation
DESCRIPTION:
URL:https://sharethecostglobal.com/event/southwark-group-of-tenants-organisation-12/
LOCATION:SGTO Head Office\, 19 Buller Close\, Peckham\, London\, SE15 6UJ
ORGANIZER;CN="Share The Cost Global":MAILTO:hello@sharethecostglobal.com
END:VEVENT
BEGIN:VEVENT
DTSTART;TZID=Europe/London:20240201T120000
DTEND;TZID=Europe/London:20240201T133000
DTSTAMP:20260420T081053
CREATED:20231227T123555Z
LAST-MODIFIED:20231227T123555Z
UID:6685-1706788800-1706794200@sharethecostglobal.com
SUMMARY:Cost of Living Fund Application
DESCRIPTION:
URL:https://sharethecostglobal.com/event/cost-of-living-fund-application-3/
LOCATION:The Green\, Nunhead Community Centre\, 5 Nunhead Green\, London\, SE15 3QQ\, United Kingdom
ORGANIZER;CN="Share The Cost Global":MAILTO:hello@sharethecostglobal.com
END:VEVENT
BEGIN:VEVENT
DTSTART;TZID=Europe/London:20240131T100000
DTEND;TZID=Europe/London:20240131T150000
DTSTAMP:20260420T081053
CREATED:20231227T140210Z
LAST-MODIFIED:20231227T140210Z
UID:6733-1706695200-1706713200@sharethecostglobal.com
SUMMARY:Southwark Group of Tenant's Organisation
DESCRIPTION:
URL:https://sharethecostglobal.com/event/southwark-group-of-tenants-organisation-3/
LOCATION:SGTO Head Office\, 19 Buller Close\, Peckham\, London\, SE15 6UJ
ORGANIZER;CN="Share The Cost Global":MAILTO:hello@sharethecostglobal.com
END:VEVENT
BEGIN:VEVENT
DTSTART;TZID=Europe/London:20240125T120000
DTEND;TZID=Europe/London:20240125T133000
DTSTAMP:20260420T081053
CREATED:20231227T123305Z
LAST-MODIFIED:20231227T123305Z
UID:6683-1706184000-1706189400@sharethecostglobal.com
SUMMARY:Cost of Living Fund Application
DESCRIPTION:
URL:https://sharethecostglobal.com/event/cost-of-living-fund-application-2/
LOCATION:The Green\, Nunhead Community Centre\, 5 Nunhead Green\, London\, SE15 3QQ\, United Kingdom
ORGANIZER;CN="Share The Cost Global":MAILTO:hello@sharethecostglobal.com
END:VEVENT
BEGIN:VEVENT
DTSTART;TZID=Europe/London:20240124T100000
DTEND;TZID=Europe/London:20240124T150000
DTSTAMP:20260420T081053
CREATED:20231227T130218Z
LAST-MODIFIED:20231227T130218Z
UID:6709-1706090400-1706108400@sharethecostglobal.com
SUMMARY:Southwark Group of Tenant's Organisation
DESCRIPTION:
URL:https://sharethecostglobal.com/event/southwark-group-of-tenants-organisation-7/
LOCATION:SGTO Head Office\, 19 Buller Close\, Peckham\, London\, SE15 6UJ
ORGANIZER;CN="Share The Cost Global":MAILTO:hello@sharethecostglobal.com
END:VEVENT
BEGIN:VEVENT
DTSTART;TZID=Europe/London:20240118T120000
DTEND;TZID=Europe/London:20240118T133000
DTSTAMP:20260420T081053
CREATED:20231227T123037Z
LAST-MODIFIED:20231227T123037Z
UID:6681-1705579200-1705584600@sharethecostglobal.com
SUMMARY:Cost of Living Fund Application
DESCRIPTION:
URL:https://sharethecostglobal.com/event/cost-of-living-fund-application/
LOCATION:The Green\, Nunhead Community Centre\, 5 Nunhead Green\, London\, SE15 3QQ\, United Kingdom
ORGANIZER;CN="Share The Cost Global":MAILTO:hello@sharethecostglobal.com
END:VEVENT
BEGIN:VEVENT
DTSTART;TZID=Europe/London:20240118T103000
DTEND;TZID=Europe/London:20240118T133000
DTSTAMP:20260420T081053
CREATED:20240108T144252Z
LAST-MODIFIED:20240108T144252Z
UID:6984-1705573800-1705584600@sharethecostglobal.com
SUMMARY:Cost of Living Registration - Trinity College Centre
DESCRIPTION:
URL:https://sharethecostglobal.com/event/cost-of-living-registration-trinity-college-centre/
LOCATION:Newest Close\, London \, SE15 6EF\, Newest Close\, London\, SE15 6EF\, United Kingdom
ORGANIZER;CN="Share The Cost Global":MAILTO:hello@sharethecostglobal.com
END:VEVENT
BEGIN:VEVENT
DTSTART;TZID=Europe/London:20240117T100000
DTEND;TZID=Europe/London:20240117T150000
DTSTAMP:20260420T081053
CREATED:20231227T125255Z
LAST-MODIFIED:20231227T130345Z
UID:6701-1705485600-1705503600@sharethecostglobal.com
SUMMARY:Southwark Group of Tenant's Organisation
DESCRIPTION:
URL:https://sharethecostglobal.com/event/southwark-group-of-tenants-organisation-2/
LOCATION:SGTO Head Office\, 19 Buller Close\, Peckham\, London\, SE15 6UJ
ORGANIZER;CN="Share The Cost Global":MAILTO:hello@sharethecostglobal.com
END:VEVENT
BEGIN:VEVENT
DTSTART;TZID=Europe/London:20240111T120000
DTEND;TZID=Europe/London:20240111T133000
DTSTAMP:20260420T081053
CREATED:20240111T120024Z
LAST-MODIFIED:20231227T122901Z
UID:3397-1704974400-1704979800@sharethecostglobal.com
SUMMARY:Cost of Living Fund Application
DESCRIPTION:
URL:https://sharethecostglobal.com/event/application-day/
LOCATION:The Green\, Nunhead Community Centre\, 5 Nunhead Green\, London\, SE15 3QQ\, United Kingdom
ORGANIZER;CN="Share The Cost":MAILTO:hello@sharethecostglobal.com
END:VEVENT
BEGIN:VEVENT
DTSTART;TZID=Europe/London:20240110T103000
DTEND;TZID=Europe/London:20240110T150000
DTSTAMP:20260420T081053
CREATED:20231227T122254Z
LAST-MODIFIED:20231227T122254Z
UID:6674-1704882600-1704898800@sharethecostglobal.com
SUMMARY:Southwark Group of Tenant's Organisation
DESCRIPTION:
URL:https://sharethecostglobal.com/event/southwark-group-of-tenants-organisation/
LOCATION:SGTO Head Office\, 19 Buller Close\, Peckham\, London\, SE15 6UJ
ORGANIZER;CN="Share The Cost Global":MAILTO:hello@sharethecostglobal.com
END:VEVENT
BEGIN:VEVENT
DTSTART;TZID=Europe/London:20231207T120000
DTEND;TZID=Europe/London:20231207T150000
DTSTAMP:20260420T081053
CREATED:20231112T230409Z
LAST-MODIFIED:20231205T205115Z
UID:5453-1701950400-1701961200@sharethecostglobal.com
SUMMARY:Southwark Council Cost of Living Fund – Walworth Methodist Church - APPOINTMENT ONLY
DESCRIPTION:This is a Face-To-Face session that allows you to book for a 10-min slot with one of our advisors to help you register for the Cost of Living Fund. We are in partnership with the Walworth Golden Oldies Community Care Project. \nWalworth Methodist Church\n54 Camberwell Road\nLondon SE5 0EN \nPLEASE BOOK YOUR SLOT HERE – Walworth Methodist Church (Face 2 Face) \nThis session is from 12pm to 3pm. \nIf you have any mobility issues\, Kindly click on any of the links below to book for a phone call session with our offline advisors. \nMonday/Wednesday Evenings – Click here to book a slot \nSunday/Monday Afternoons – Click here to book  slot \nSaturday – Click here to book \n  \n  \nWe have been honoured with the opportunity to work as Referral Partners for the Community Referrals Pathway (CRP) representing Southwark Council to support their residents\, in accessing the Southwark Council Cost of Living Fund. This fund is for £100. This is from 13th November 2023 – 31st December 2023. \nEligibility for the fund: \n\nThe customer must live in Southwark or have been placed in temporary. accommodation by Southwark Council within or outside the borough.\nThe customer must pay towards energy bills for their home.\nThe household must have been identified as vulnerable and in need – note there is no formal means-testing of those referred and the council will not probe the circumstances of referrals.\nIf you share a home and bills with others\, you can be referred. Please note there will only be two payments made per property.\nIf you are receiving benefits\, you can also be referred.\nA household which received a payment in the period up to 31st December 2023 may receive a second payment in the period 1 January 2024- 29 March if the above criteria is still met.\n\nPlease be advised we will complete a form with you\, where you will have to provide your ID and proof of residency\, this will then be assessed by Southwark Council once the form is received. Within 7 – 10 working days you will receive an email of confirmation from the council. This will be in the form of a voucher that will be redeemable at your local post office (You will need to provide your ID). \nThe STC Global Team look forward to serving our community.
URL:https://sharethecostglobal.com/event/southwark-council-cost-of-living-fund-referrals-day-4/
LOCATION:Walworth Methodist Church\, Walworth Methodist Church 54 Camberwell Road\, London\, SE5 0EN\, United Kingdom
CATEGORIES:Dignity in Giving,Southwark Cost Of Living Fund
ORGANIZER;CN="Share The Cost Global":MAILTO:hello@sharethecostglobal.com
END:VEVENT
BEGIN:VEVENT
DTSTART;TZID=Europe/London:20231203T120000
DTEND;TZID=Europe/London:20231203T130000
DTSTAMP:20260420T081053
CREATED:20231112T225855Z
LAST-MODIFIED:20231112T230004Z
UID:5450-1701604800-1701608400@sharethecostglobal.com
SUMMARY:Southwark Council Cost of Living Fund – Referrals Day
DESCRIPTION:   \n  \nWe have been honoured with the opportunity to work as Referral Partners for the Community Referrals Pathway (CRP) representing Southwark Council to support their residents\, in accessing the Southwark Council Cost of Living Fund. This fund is for £100. This is from 13th November 2023 – 31st December 2023. \nEligibility for the fund: \n\nThe customer must live in Southwark or have been placed in temporary. accommodation by Southwark Council within or outside the borough.\nThe customer must pay towards energy bills for their home.\nThe household must have been identified as vulnerable and in need – note there is no formal means-testing of those referred and the council will not probe the circumstances of referrals.\nIf you share a home and bills with others\, you can be referred. Please note there will only be two payments made per property.\nIf you are receiving benefits\, you can also be referred.\nA household which received a payment in the period up to 31st December 2023 may receive a second payment in the period 1 January 2024- 29 March if the above criteria is still met.\n\nPlease be advised we will complete a form with you\, where you will have to provide your ID and proof of residency\, this will then be assessed by Southwark Council once the form is received. Within 7 – 10 working days you will receive an email of confirmation from the council. This will be in the form of a voucher that will be redeemable at your local post office (You will need to provide your ID). \nA massive Thank You to St Mary Magdalene Church for allowing us to use their hall to run this event. \nMore event dates coming soon! \nThe STC Global Team look forward to serving our community.
URL:https://sharethecostglobal.com/event/southwark-council-cost-of-living-fund-referrals-day-3/
LOCATION:St Mary Magdalene Church\, St Mary's Road\, London\, SE15 2EA
CATEGORIES:Dignity in Giving,Southwark Cost Of Living Fund
ORGANIZER;CN="Share The Cost Global":MAILTO:hello@sharethecostglobal.com
END:VEVENT
BEGIN:VEVENT
DTSTART;TZID=Europe/London:20231129T110000
DTEND;TZID=Europe/London:20231129T130000
DTSTAMP:20260420T081053
CREATED:20231105T200606Z
LAST-MODIFIED:20231113T073957Z
UID:5075-1701255600-1701262800@sharethecostglobal.com
SUMMARY:Join STC Global as We Inspire the Next Generation of Entrepreneurs!
DESCRIPTION:Join STC Global as We Inspire the Next Generation of Entrepreneurs! \nWe are thrilled to announce that Share The Cost Global (STC Global) has been extended an invitation as guest speakers to the dynamic and aspiring community of budding entrepreneur students at the University of East London. \nDiscover STC Global: This remarkable opportunity offers a unique insight into the heart of STC Global. Learn about our mission\, vision\, and unwavering commitment to creating tangible\, positive transformations within local communities. \nMeet the Team: Get up close and personal with the passionate minds behind STC Global. Our dedicated team is excited to share their experiences\, expertise\, and the journey that drives our impactful work. \nUnveil Practical Change: Explore the practical aspects of how we are turning our dreams into reality. Discover firsthand how we are actively making a difference in local communities and empowering individuals to embrace positive change. \nThis event is your chance to join hands with STC Global\, and together\, we can pave the way for a brighter\, more promising future. \nDon’t miss this inspiring opportunity to engage with STC Global and be part of the change we want to see in the world. Your journey to impact starts here!
URL:https://sharethecostglobal.com/event/join-stc-global-as-we-inspire-the-next-generation-of-entrepreneurs/
LOCATION:University of East London\, University Way\, London\, E16 2RD\, United Kingdom
CATEGORIES:University of East London
ORGANIZER;CN="Share The Cost Global":MAILTO:hello@sharethecostglobal.com
END:VEVENT
BEGIN:VEVENT
DTSTART;TZID=Europe/London:20231128T120000
DTEND;TZID=Europe/London:20231128T200000
DTSTAMP:20260420T081053
CREATED:20231112T225259Z
LAST-MODIFIED:20231112T225423Z
UID:5445-1701172800-1701201600@sharethecostglobal.com
SUMMARY:Southwark Council Cost of Living Fund – Referrals Day
DESCRIPTION:We have been honoured with the opportunity to work as Referral Partners for the Community Referrals Pathway (CRP) representing Southwark Council to support their residents\, in accessing the Southwark Council Cost of Living Fund. This fund is for £100. This is from 13th November 2023 – 31st December 2023. \nEligibility for the fund: \n\nThe customer must live in Southwark or have been placed in temporary. accommodation by Southwark Council within or outside the borough.\nThe customer must pay towards energy bills for their home.\nThe household must have been identified as vulnerable and in need – note there is no formal means-testing of those referred and the council will not probe the circumstances of referrals.\nIf you share a home and bills with others\, you can be referred. Please note there will only be two payments made per property.\nIf you are receiving benefits\, you can also be referred.\nA household which received a payment in the period up to 31st December 2023 may receive a second payment in the period 1 January 2024- 29 March if the above criteria is still met.\n\nPlease be advised we will complete a form with you\, where you will have to provide your ID and proof of residency\, this will then be assessed by Southwark Council once the form is received. Within 7 – 10 working days you will receive an email of confirmation from the council. This will be in the form of a voucher that will be redeemable at your local post office (You will need to provide your ID). \nA massive Thank You to Dene Community Centre for allowing us to use their hall to run this event. \nMore event dates coming soon! \nThe STC Global Team look forward to serving our community.
URL:https://sharethecostglobal.com/event/southwark-council-cost-of-living-fund-referrals-day-2/
LOCATION:Dene Community Centre\, 95b Meeting House Lane\, London\, SE15 2TU
CATEGORIES:Dignity in Giving,Southwark Cost Of Living Fund
ORGANIZER;CN="Share The Cost Global":MAILTO:hello@sharethecostglobal.com
END:VEVENT
BEGIN:VEVENT
DTSTART;TZID=Europe/London:20231125T100000
DTEND;TZID=Europe/London:20231125T160000
DTSTAMP:20260420T081053
CREATED:20231105T190219Z
LAST-MODIFIED:20231105T190220Z
UID:5063-1700906400-1700928000@sharethecostglobal.com
SUMMARY:Southwark Tenant Conference
DESCRIPTION:Share The Cost Global will be attending this years Southwark Tenant Conference ass and independent organisation. Come and meet the team\, register and shop online (10% discount once you are registered with us). \nThe conference will be held on Saturday 25 November between 10am to 4pm at the William Booth College\, Champion Park\, SE5 8BQ. \nThe conference\, organised by tenants\, will give residents who live in Southwark council-managed properties a chance to find out about their housing service. In addition\, it will provide an opportunity to hear from various independent organisations about the services and support that are available to them. It will also enable delegates to meet their representatives and peers. There will be presentations from the council and independent professionals and an opportunity to ask questions. \nThe conference will also feature a marketplace with information stalls. Exhibitors include: \nHousing repairs \nResident Involvement \nHousing Solutions \nHousing management \nCitizens Advice \nSouthwark Group of Tenants Organisations (SGTO) \nBritish Land \nMetropolitan Police \nA light lunch and refreshments will be provided. \nPlaces are limited to 400 delegates. So\, please register an interest as soon as possible by clicking on this link: www.southwark.gov.uk/tenant-conference \nIf you have any questions\, please phone the council’s Resident Involvement team on 020 7525 1239 or email: resident.Involvement@southwark.gov.uk
URL:https://sharethecostglobal.com/event/southwark-tenant-conference/
LOCATION:William Booth College\, Champion Park\, London\, SE5 8BQ\, United Kingdom
CATEGORIES:Southwark Tenant Conference
ORGANIZER;CN="Share The Cost Global":MAILTO:hello@sharethecostglobal.com
END:VEVENT
BEGIN:VEVENT
DTSTART;TZID=Europe/London:20231123T100000
DTEND;TZID=Europe/London:20231123T150000
DTSTAMP:20260420T081053
CREATED:20231105T140100Z
LAST-MODIFIED:20231105T140100Z
UID:5058-1700733600-1700751600@sharethecostglobal.com
SUMMARY:Southwark Council Cost of Living Fund - Referrals Day
DESCRIPTION:We have been honoured with the opportunity to work as Referral Partners for the Community Referrals Pathway (CRP) representing Southwark Council to support their residents\, in accessing the Southwark Council Cost of Living Fund. This fund is for £100. This is from 13th November 2023 – 31st December 2023. \nEligibility for the fund: \n\nThe customer must live in Southwark or have been placed in temporary. accommodation by Southwark Council within or outside the borough.\nThe customer must pay towards energy bills for their home.\nThe household must have been identified as vulnerable and in need – note there is no formal means-testing of those referred and the council will not probe the circumstances of referrals.\nIf you share a home and bills with others\, you can be referred. Please note there will only be two payments made per property.\nIf you are receiving benefits\, you can also be referred.\nA household which received a payment in the period up to 31st December 2023 may receive a second payment in the period 1 January 2024- 29 March if the above criteria is still met.\n\nPlease be advised we will complete a form with you\, where you will have to provide your ID and proof of residency\, this will then be assessed by Southwark Council once the form is received. Within 7 – 10 working days you will receive an email of confirmation from the council. This will be in the form of a voucher that will be redeemable at your local post office (You will need to provide your ID). \nA massive Thank You to St Thomas the Apostle RC Church\, Nunhead for allowing us to use their hall to run this event. \nMore event dates coming soon! \nThe STC Global Team look forward to serving our community.
URL:https://sharethecostglobal.com/event/southwark-council-cost-of-living-fund-referrals-day/
LOCATION:St Thomas the Apostle RC Church\, Nunhead – 81 Evelina Rd\, London SE15 3HL\, St Thomas the Apostle RC Church\, Nunhead - 81 Evelina Road\, LONDON\, SE15 3HL\, United Kingdom
CATEGORIES:Dignity in Giving
ORGANIZER;CN="Share The Cost":MAILTO:hello@sharethecostglobal.com
END:VEVENT
END:VCALENDAR